BEGIN:VCALENDAR
VERSION:2.0
PRODID:icalendar-ruby
CALSCALE:GREGORIAN
METHOD:PUBLISH
BEGIN:VEVENT
DTSTAMP:20260422T155316Z
UID:22-407441@hettingerlutheran.org
DTSTART:20261018T160000Z
DTEND:20261018T170000Z
CLASS:PUBLIC
CREATED:20260422T080747
DESCRIPTION:Sunday morning worship service is held weekly\, beginning at 10
 :00AM. It is about 45-65 minutes long. All are welcome! Children are encou
 raged to attend. Handicap accessibility and seating available\, use door C
 . Communion will be on the 1st and 3rd Sunday - Subject to change.
LAST-MODIFIED:20260422T080747
LOCATION:904 2nd Ave S. 
SUMMARY:Worship service
URL;VALUE=URI:https://hettingerlutheran.org/events/worship-service--22/2026
 -10-18
ATTACH;FILENAME=Church-Picture.jpg;FMTTYPE=image/jpeg:https://dq5pwpg1q8ru0
 .cloudfront.net/2023/06/27/09/47/31/d4d53048-2d26-48dd-981d-3936b65fcba0/C
 hurch-Picture.jpg
END:VEVENT
END:VCALENDAR
